BEGIN:VCALENDAR
VERSION:2.0
PRODID:-//Windsbraut-Kalender//kalender.windsbraut-ev.de//
BEGIN:VEVENT
SUMMARY:Segeln und Leben im Wattenmeer
DTSTART;VALUE=DATE:20260809
DTEND;VALUE=DATE:20260816
DESCRIPTION:##### Hast du Lust zu segeln? Dann komm mit an Bord und lass u
 ns gemeinsam das Wattenmeer entdecken! \n\nBei dieser Tour wollen wir eine
  Woche auf einem alten Segelschiff im Nationalpark Wattenmeer im Rhythmus 
 von Wetter und Gezeiten unterwegs sein: Gemeinsam mit einer Gruppe junger 
 Menschen den Schiffsalltag gestalten\, etwas übers Segeln und die Natur l
 ernen\, Inseln und Halligen erkunden\, singen\, schwimmen\, Sonnenaufgäng
 e genießen... Wir essen und kochen gemeinsam vegan. **Du brauchst keine
  Vorkenntnisse!**\n\n- **Details:** 09.08.2026-16.08.2026 (So-So)\, Start-
  und Zielhafen: Husum\n- **Mitreisende Menschen:** 3-4 ehrenamtliche Besat
 zungsmitglieder und max. 16 Teilnehmer*innen zwischen 12 und 27 Jahren. \n
 - **Anmeldung:** Schreib uns zur Anmeldung gerne ein paar Zeilen zu deiner
  Motivation\, dabei zu sein. Anmeldefrist ist der 31.05.\n- **Kosten:** Di
 e Kosten liegen (je nach Selbsteinschätzung der eigenen finanziellen Situ
 ation) bei 200-350€ (+25€ Fahrtkostenpauschale- die Fahrtkosten könne
 n dann in Teilen zurückerstattet werden). Wenn du den Teilnehmendenbeitra
 g aktuell schwer stemmen kannst\, melde dich bitte bei uns. Wir finden ein
 e Lösung!\n\nÜberweise bitte binnen 2 Wochen\, nachdem du eine Anmeldebe
 stätigung erhalten hast\, 150€ als Anzahlung auf folgendes Konto: Winds
 braut e.V.\, Deutsche Skatbank\, DE55 8306 5408 0004 8818 42\, Verwendung:
  Janun 2026 + dein Name.\n\nVortreffen: Am 27. 07. (Mo) findet um 19:00 on
 line ein Vorbereitungstreffen statt. Bring dazu gerne alle deine Fragen un
 d Anregungen mit. Du kannst hier auch gerne inhaltliche Programm- und Work
 shopideen und Rezeptinspirationen einbringen.\n\n\nWir freuen uns auf eine
  erlebnisreiche gemeinsame Zeit! Das Seminar wird unterstützt vom [JANUN 
 e.V.](https://www.janun.de/en/).
LOCATION:Husum - Husum
URL:https://kalender.windsbraut-ev.de/events/39
END:VEVENT
END:VCALENDAR
