BEGIN:VCALENDAR
VERSION:2.0
PRODID:-//Windsbraut-Kalender//kalender.windsbraut-ev.de//
BEGIN:VEVENT
SUMMARY:Überführung zur Werft
DTSTART;VALUE=DATE:20260920
DTEND;VALUE=DATE:20260924
DESCRIPTION:Vom 20.09. bis zum 24.09.2026 überführen wir Windsbraut von 
 Husum durch den Nord-Ostsee-Kanal nach Arnis\, bei Kappeln. Mitfahren kön
 nen alle! \nIm Anschluss startet dann die zweiwöchige Werftzeit. \n\nHaup
 tsächlich geht es bei dieser Tour darum\, Strecke zu machen und rechtzeit
 ig auf dem Werftgelände anzukommen. Wir werden im Wattenmeer starten\, et
 was Elbe segeln/fahren\, durch den Nord-Ostsee-Kanal steuern und schleusen
 \, von der Kieler Förde aus nordwärts segeln und schließlich in die Sch
 lei einlaufen. \nUnterwegs gibt es aber auch viel Zeit um das Schiff kenne
 nzulernen\, Dinge auszuprobieren\, der Crew Löcher in die Bäuche zu frag
 en und das Leben an Bord zu genießen!\n\nKennst du noch weitere schiffs- 
 und segelinteressierte Menschen? Dann mach gerne Werbung und bring weitere
  Menschen mit. Wenn du besondere Wünsche hast\, was du während der Tour 
 lernen\, ausprobieren oder erfahren möchtest\, schreibe das gerne mit in 
 die Anmeldung.\n\nFür die Verpflegung werden 8€ pro Tag berechnet. Geld
  soll kein Ausschlussgrund sein\, meldet euch und wir finden eine Lösung!
 \nAn Bord wird grundsätzlich vegan/vegetarisch gekocht.
LOCATION:Husum - Arnis
URL:https://kalender.windsbraut-ev.de/events/38
END:VEVENT
END:VCALENDAR
