BEGIN:VCALENDAR
VERSION:2.0
PRODID:-//Windsbraut-Kalender//kalender.windsbraut-ev.de//
BEGIN:VEVENT
SUMMARY:Werftzeit und Arbeitswochen
DTSTART;VALUE=DATE:20260925
DTEND;VALUE=DATE:20261012
DESCRIPTION:##### Die Windsbraut kommt ins Trockendock!\n\nam **25.09.2026
 ** wird geslippt\, also das Schiff aus dem Wasser geholt und aufs Trockene
  gestellt\, am **12.10.2026** müssen wir vom Werftgelände runter.\nIn di
 esen zwei Wochen wollen wir uns gemeinsam um alles kümmern\, was an Bord 
 und am Rumpf ansteht um die alte Dame wieder fit für die nächste Saison 
 zu machen.\n\nDas bedeutet ganz praktisch: Wir kraulen ihr mit Winkelschle
 ifer und Topfbürste den Bauch\, legen die Masten\, kleckern mit Farbe\, e
 rneuern Holzteile\, kümmern uns um Sicherheitsausrüstung\, Maschine und 
 packen überall dort mit an\, wo Hände gebraucht werden. Einige Arbeiten 
 werden von der Werft übernommen\, andere bereiten wir als Verein selbst v
 or oder führen sie gemeinsam aus. Neben den handwerklichen Arbeiten falle
 n auch andere Aufgaben an. Es muss eingekauft\, gekocht\, aufgeräumt\, Ma
 terial sortiert\, Arbeit koordiniert und der gemeinsame Alltag auf der Wer
 ft organisiert werden.\n\nWährend der gesamten Zeit sind Menschen vor Ort
 \, die euch anleiten und mit euch zusammen arbeiten. **Ihr braucht keine V
 orkenntnisse.**\n\nWir werden auf dem Werftgelände leben\, **vegan/vegeta
 risch kochen** und die gemeinsame Zeit gestalten. Es wird regelmäßige Pl
 ena geben\, in denen wir Arbeiten verteilen und besprechen\, was gerade an
 steht. Außerdem wünschen wir uns Raum für Befindlichkeitsrunden und kur
 ze gemeinsame Check-ins: Wie geht es uns\, was brauchen wir und wo gibt es
  gerade Unterstützungsbedarf?\n\nEs kommen keine Kosten auf euch zu\, der
  Verein übernimmt die Verpflegungskosten. Ihr könnt auch nur einen Teil 
 der Zeit mit dabei sein. Also worauf noch warten? Bringt Arbeitsklamotten 
 und Motivation mit!\n\nEs wird im Voraus nochmal eine **E-Mail mit den wic
 htigsten Informationen** geben.\n\nWir freuen uns auf Euch!
LOCATION:Arnis bei Kappeln
URL:https://kalender.windsbraut-ev.de/events/37
END:VEVENT
END:VCALENDAR
